OziExplorer Map Data File Version 2.2
M-34-144 Òÿ÷åâ
M-34-144.jpg
1 ,Map Code,
Pulkovo 1942 (1),WGS 84, 0.0000, 0.0000,WGS 84
Reserved 1
Reserved 2
Magnetic Variation,,,E
Map Projection,Transverse Mercator,PolyCal,No,AutoCalOnly,No,BSBUseWPX,No
Point01,xy, 112, 170,in, deg, 48, 20.0000,N, 23, 30.0000,E, grid, , , ,N
Point02,xy, 1393, 170,in, deg, 48, 20.0000,N, 23, 45.0000,E, grid, , , ,N
Point03,xy, 2673, 169,in, deg, 48, 20.0000,N, 24, 0.0000,E, grid, , , ,N
Point04,xy, 108, 1451,in, deg, 48, 10.0000,N, 23, 30.0000,E, grid, , , ,N
Point05,xy, 1392, 1453,in, deg, 48, 10.0000,N, 23, 45.0000,E, grid, , , ,N
Point06,xy, 2677, 1451,in, deg, 48, 10.0000,N, 24, 0.0000,E, grid, , , ,N
Point07,xy, 104, 2732,in, deg, 48, 0.0000,N, 23, 30.0000,E, grid, , , ,N
Point08,xy, 1393, 2732,in, deg, 48, 0.0000,N, 23, 45.0000,E, grid, , , ,N
Point09,xy, 2681, 2732,in, deg, 48, 0.0000,N, 24, 0.0000,E, grid, , , ,N
Point10,xy, , ,in, deg, , ,N, , ,E, grid, , , ,N
Point11,xy, , ,in, deg, , ,N, , ,E, grid, , , ,N
Point12,xy, , ,in, deg, , ,N, , ,E, grid, , , ,N
Point13,xy, , ,in, deg, , ,N, , ,E, grid, , , ,N
Point14,xy, , ,in, deg, , ,N, , ,E, grid, , , ,N
Point15,xy, , ,in, deg, , ,N, , ,E, grid, , , ,N
Point16,xy, , ,in, deg, , ,N, , ,E, grid, , , ,N
Point17,xy, , ,in, deg, , ,N, , ,E, grid, , , ,N
Point18,xy, , ,in, deg, , ,N, , ,E, grid, , , ,N
Point19,xy, , ,in, deg, , ,N, , ,E, grid, , , ,N
Point20,xy, , ,in, deg, , ,N, , ,E, grid, , , ,N
Point21,xy, , ,in, deg, , ,N, , ,E, grid, , , ,N
Point22,xy, , ,in, deg, , ,N, , ,E, grid, , , ,N
Point23,xy, , ,in, deg, , ,N, , ,E, grid, , , ,N
Point24,xy, , ,in, deg, , ,N, , ,E, grid, , , ,N
Point25,xy, , ,in, deg, , ,N, , ,E, grid, , , ,N
Point26,xy, , ,in, deg, , ,N, , ,E, grid, , , ,N
Point27,xy, , ,in, deg, , ,N, , ,E, grid, , , ,N
Point28,xy, , ,in, deg, , ,N, , ,E, grid, , , ,N
Point29,xy, , ,in, deg, , ,N, , ,E, grid, , , ,N
Point30,xy, , ,in, deg, , ,N, , ,E, grid, , , ,N
Projection Setup, 0.000000000, 21.000000000, 1.000000000, 4500000.00, 0.00,,,,,
Map Feature = MF ; Map Comment = MC These follow if they exist
Track File = TF These follow if they exist
Moving Map Parameters = MM? These follow if they exist
MM0,Yes
MMPNUM,4
MMPXY,1,112,170
MMPXY,2,2673,169
MMPXY,3,2681,2732
MMPXY,4,104,2732
MMPLL,1, 23.500000, 48.333333
MMPLL,2, 24.000000, 48.333333
MMPLL,3, 24.000000, 48.000000
MMPLL,4, 23.500000, 48.000000
MM1B,14.470023
Other Grid Setup
GRGRID,No,2 Km,No,16711680,255,No Labels,0,16777215,8,1,Yes,No,No,x
MOP,Map Open Position,0,0
IWH,Map Image Width/Height,2817,3002
